BEGIN:VCALENDAR
VERSION:2.0
PRODID:-//3lectrify//Event//DE
CALSCALE:GREGORIAN
METHOD:PUBLISH
BEGIN:VEVENT
DTSTART:20260519T143000Z
DTEND:20260519T180000Z
DTSTAMP:20260423T131043Z
UID:event-maximale-rendite-gerade-jetzt@3lectrify.com
SUMMARY:Maximale Rendite. Gerade jetzt.
DESCRIPTION:Wie bauen wir heute so\, dass sich Projekte auch in anspruchsvollen Zeiten nachhaltig rechnen? Impulse von Timo Leukefeld\, Lars Keussen und Laurent Brückner.\n\nhttps://www.3lectrify.com/event/maximale-rendite-gerade-jetzt
LOCATION:3lectrify Kompetenzzentrum\, Kramergasse 32\, 82054 Sauerlach
URL:https://www.3lectrify.com/event/maximale-rendite-gerade-jetzt
STATUS:CONFIRMED
END:VEVENT
END:VCALENDAR